BEGIN:VCALENDAR
VERSION:2.0
PRODID:-//Tukios.com/
BEGIN:VEVENT
UID:2cbb13a8-16ca-4932-a9e3-129cd4de87bc@www.perryjbrownfuneralhome.com
DTSTAMP:20260424T195233Z
DTSTART:20260429T170000Z
DTEND:20260429T180000Z
SUMMARY:Funeral Service
DESCRIPTION:
URL:https://www.perryjbrownfuneralhome.com/obituaries/ms-brittnay-kelley
LOCATION:Williams Memorial CME Church 3400 Triangle Lake Road  High Point 
	NC 27260
GEO:35.9566683;-79.9506391
END:VEVENT
END:VCALENDAR