BEGIN:VCALENDAR
VERSION:2.0
PRODID:-//Tukios.com/
BEGIN:VEVENT
UID:eb58b6b8-39da-4e1b-8bbe-7243e7d45606@www.perryjbrownfuneralhome.com
DTSTAMP:20260424T195326Z
DTSTART:20260429T163000Z
DTEND:20260429T173000Z
SUMMARY:Visitation
DESCRIPTION:
URL:https://www.perryjbrownfuneralhome.com/obituaries/ms-brittnay-kelley
LOCATION:Williams Memorial CME Church 3400 Triangle Lake Road  High Point 
	NC 27260
GEO:35.9566683;-79.9506391
END:VEVENT
END:VCALENDAR