BEGIN:VCALENDAR
VERSION:2.0
PRODID:-//Tukios.com/
BEGIN:VEVENT
UID:ac822229-8fbb-4158-9ca3-91a6699084be@www.perryjbrownfuneralhome.com
DTSTAMP:20260421T233512Z
DTSTART:20260428T170000Z
DTEND:20260428T180000Z
SUMMARY:Burial
DESCRIPTION:
URL:https://www.perryjbrownfuneralhome.com/obituaries/mrs-faye-caviness
LOCATION: 3600 North O.Henry Boulevard  Greensboro NC 27405
GEO:36.1276319;-79.7434926
END:VEVENT
END:VCALENDAR