BEGIN:VCALENDAR
VERSION:2.0
PRODID:-//Tukios.com/
BEGIN:VEVENT
UID:3ad22a6d-a14e-4f99-91d5-bc29b84a6eb5@www.perryjbrownfuneralhome.com
DTSTAMP:20260421T233024Z
DTSTART:20260428T170000Z
DTEND:20260428T180000Z
SUMMARY:Funeral Service
DESCRIPTION:
URL:https://www.perryjbrownfuneralhome.com/obituaries/mrs-faye-caviness
LOCATION: 601 Franklin Blvd  Greensboro NC 27401
GEO:36.0715049;-79.7406433
END:VEVENT
END:VCALENDAR