BEGIN:VCALENDAR
VERSION:2.0
PRODID:-//Tukios.com/
BEGIN:VEVENT
UID:fdcfa84e-8989-4cde-a261-420f33e17aac@www.perryjbrownfuneralhome.com
DTSTAMP:20260421T233722Z
DTSTART:20260428T163000Z
DTEND:20260428T170000Z
SUMMARY:Visitation
DESCRIPTION:
URL:https://www.perryjbrownfuneralhome.com/obituaries/mrs-faye-caviness
LOCATION:Rescue Temple 601 Franklin Blvd  Greensboro NC 27401
GEO:36.0715049;-79.7406433
END:VEVENT
END:VCALENDAR