BEGIN:VCALENDAR
VERSION:2.0
PRODID:-//Tukios.com/
BEGIN:VEVENT
UID:047f9cdf-f5ad-4be6-83cd-bc940dffbb9f@www.perryjbrownfuneralhome.com
DTSTAMP:20260421T201712Z
DTSTART:20260427T130000Z
DTEND:20260427T140000Z
SUMMARY:Burial
DESCRIPTION:
URL:https://www.perryjbrownfuneralhome.com/obituaries/mr-george-cunningham
LOCATION:Salisbury National Cemetery Military cemetery  Salisbury NC 
	28144
GEO:35.6672058;-80.4612412
END:VEVENT
END:VCALENDAR