BEGIN:VCALENDAR
VERSION:2.0
PRODID:-//Tukios.com/
BEGIN:VEVENT
UID:e68814e6-13da-4343-b35f-9c525fcc7d22@www.perryjbrownfuneralhome.com
DTSTAMP:20260421T201641Z
DTSTART:20260425T170000Z
DTEND:20260425T180000Z
SUMMARY:Funeral Service
DESCRIPTION:
URL:https://www.perryjbrownfuneralhome.com/obituaries/mr-george-cunningham
LOCATION: 2445 Oak Ridge Rd  Oak Ridge NC 27310
GEO:36.1802477;-79.977097
END:VEVENT
END:VCALENDAR