BEGIN:VCALENDAR
VERSION:2.0
PRODID:-//Tukios.com/
BEGIN:VEVENT
UID:d7764ad6-6501-47c0-b193-6906ac4083c4@www.perryjbrownfuneralhome.com
DTSTAMP:20260421T201233Z
DTSTART:20260425T160000Z
DTEND:20260425T170000Z
SUMMARY:Visitation
DESCRIPTION:
URL:https://www.perryjbrownfuneralhome.com/obituaries/mr-george-cunningham
LOCATION: 2445 Oak Ridge Rd  Oak Ridge NC 27310
GEO:36.1802477;-79.977097
END:VEVENT
END:VCALENDAR