BEGIN:VCALENDAR
VERSION:2.0
PRODID:-//Tukios.com/
BEGIN:VEVENT
UID:1b7e73e8-37ae-4cf1-87ad-d350c1302c6a@www.perryjbrownfuneralhome.com
DTSTAMP:20260421T232523Z
DTSTART:20260430T160000Z
DTEND:20260430T170000Z
SUMMARY:Burial
DESCRIPTION:
URL:https://www.perryjbrownfuneralhome.com/obituaries/mr-claude-anderson
LOCATION:Maplewood Cemetery 235 Bingham St  Greensboro NC 27401
GEO:36.0726919;-79.7596864
END:VEVENT
END:VCALENDAR