BEGIN:VCALENDAR
VERSION:2.0
PRODID:-//Tukios.com/
BEGIN:VEVENT
UID:74b9920d-78ab-412f-8948-110a47c341ae@www.perryjbrownfuneralhome.com
DTSTAMP:20260421T232625Z
DTSTART:20260430T160000Z
DTEND:20260430T170000Z
SUMMARY:Funeral Service
DESCRIPTION:
URL:https://www.perryjbrownfuneralhome.com/obituaries/mr-claude-anderson
LOCATION: 1414 Gorrell St  Greensboro NC 27401
GEO:36.0648353;-79.769023
END:VEVENT
END:VCALENDAR