BEGIN:VCALENDAR
VERSION:2.0
PRODID:-//Tukios.com/
BEGIN:VEVENT
UID:7c4e230d-44fb-4d7f-a4ac-f92bbc591a8e@www.perryjbrownfuneralhome.com
DTSTAMP:20260421T232618Z
DTSTART:20260430T153000Z
DTEND:20260430T160000Z
SUMMARY:Visitation
DESCRIPTION:
URL:https://www.perryjbrownfuneralhome.com/obituaries/mr-claude-anderson
LOCATION: 1414 Gorrell St  Greensboro NC 27401
GEO:36.0648353;-79.769023
END:VEVENT
END:VCALENDAR